BEGIN:VCALENDAR
VERSION:2.0
PRODID:Events Booking
BEGIN:VEVENT
UID:69ea4c4a28e76
SUMMARY:Supplier Day Sponsorship Opportunities
DESCRIPTION:
 Showcase your brand. Elevate your visibility. Connect with i
 ndustry leaders.
 Partner with us at Supplier Day to position your compan
 y front and center with key decision makers\, innovators\, and industry in
 fluencers. Our sponsorship packages are designed to maximize exposure\, st
 rengthen brand recognition\, and create meaningful engagement throughout t
 he event.
 Please note prior to registering you will need your logo in PD
 F format and no larger than 2MB in file size to complete the registration.
 &nbsp\;
 
 Day Event Sponsorship Packages
 Registration Sponsorship –
  $10\,000 (Sold Out)
 Limited to 2 SponsorsMake a powerful first impressi
 on as every attendee enters the event.Package Includes:
 
 Premium brand
 ing and signage at registration and both main entrances
 Logo placement o
 n event website and all pre show media communications
 Custom floor decal
 s from the garage entrance featuring your logo and booth number
 Priority
  booth placement selection (Booth purchased separately)
 
 
 Lunch Spon
 sorship – $7\,500
 Limited to 4 Sponsors Own the most highly attended p
 ortion of the day.Package Includes:
 
 Prominent branding and signage in
  the lunch area
 Logo placement on lunch boxes and napkins
 Branding on 
 event website and pre show media communications
 Priority booth placement
  selection (Booth purchased separately)
 
 
 Speaker Presentation Spons
 orship – $5\,000
 Exclusive – Only 1 Available Align your brand with 
 thought leadership and innovation.Package Includes:
 
 Branding and sign
 age on the main stage
 Logo placement on speaker information signage
 Br
 anding integrated into the speaker’s presentation
 Logo placement on ev
 ent website
 
 
 The Recharge Lounge – $5\,000
 Limited to 3 Sponsor
 s Keep attendees energized while keeping your brand top of mind.Package In
 cludes:
 
 Branding and signage in the refreshment area
 Logo placement
  on napkins
 Branding on event website
 
 
 Floor Decals – $700
 Li
 mited to 10 Sponsors Guide attendees directly to your booth with strategic
 \, eye catching floor decals.Package Includes:
 
 Custom decals placed t
 hroughout the event featuring your logo and booth number
 
 
 Beakers &
 amp\; Beauty with SWSCC Party
 After Party Sponsorship – $7\,500
 Limi
 ted to 2 Sponsors Extend your brand presence into the evening as attendees
  unwind and network.Package Includes:
 
 Prominent branding throughout t
 he after party venue
 Logo placement on event website and all pre show me
 dia communications
 Priority booth placement selection (Booth purchased s
 eparately)
 
DTSTART:20260916T050000Z
DTEND:20260916T050000Z
DTSTAMP:20230707T034708Z
ORGANIZER;CN=Southwest Society of Cosmetic Chemists:MAILTO:events@swscc.org
END:VEVENT
END:VCALENDAR