BEGIN:VCALENDAR
VERSION:2.0
PRODID:Events Booking
BEGIN:VEVENT
UID:69ea7fb0892d0
SUMMARY:2026 SWSCC Suppliers' Day - Booth Registration Only 
DESCRIPTION:
DTSTART:20260915T050000Z
DTEND:20260915T050000Z
DTSTAMP:20260423T202312Z
ORGANIZER;CN=Southwest Society of Cosmetic Chemists:MAILTO:events@swscc.org
END:VEVENT
END:VCALENDAR